BEGIN:VCALENDAR
VERSION:2.0
PRODID:-//New Life West - ECPv6.15.20//NONSGML v1.0//EN
CALSCALE:GREGORIAN
METHOD:PUBLISH
X-WR-CALNAME:New Life West
X-ORIGINAL-URL:https://newlifewest.nl
X-WR-CALDESC:Events for New Life West
REFRESH-INTERVAL;VALUE=DURATION:PT1H
X-Robots-Tag:noindex
X-PUBLISHED-TTL:PT1H
BEGIN:VTIMEZONE
TZID:Europe/Paris
BEGIN:DAYLIGHT
TZOFFSETFROM:+0100
TZOFFSETTO:+0200
TZNAME:CEST
DTSTART:20240331T010000
END:DAYLIGHT
BEGIN:STANDARD
TZOFFSETFROM:+0200
TZOFFSETTO:+0100
TZNAME:CET
DTSTART:20241027T010000
END:STANDARD
BEGIN:DAYLIGHT
TZOFFSETFROM:+0100
TZOFFSETTO:+0200
TZNAME:CEST
DTSTART:20250330T010000
END:DAYLIGHT
BEGIN:STANDARD
TZOFFSETFROM:+0200
TZOFFSETTO:+0100
TZNAME:CET
DTSTART:20251026T010000
END:STANDARD
BEGIN:DAYLIGHT
TZOFFSETFROM:+0100
TZOFFSETTO:+0200
TZNAME:CEST
DTSTART:20260329T010000
END:DAYLIGHT
BEGIN:STANDARD
TZOFFSETFROM:+0200
TZOFFSETTO:+0100
TZNAME:CET
DTSTART:20261025T010000
END:STANDARD
BEGIN:DAYLIGHT
TZOFFSETFROM:+0100
TZOFFSETTO:+0200
TZNAME:CEST
DTSTART:20270328T010000
END:DAYLIGHT
BEGIN:STANDARD
TZOFFSETFROM:+0200
TZOFFSETTO:+0100
TZNAME:CET
DTSTART:20271031T010000
END:STANDARD
END:VTIMEZONE
BEGIN:VEVENT
DTSTART;TZID=Europe/Paris:20260208T083000
DTEND;TZID=Europe/Paris:20260208T133000
DTSTAMP:20260424T123332
CREATED:20260112T174619Z
LAST-MODIFIED:20260112T174619Z
UID:232-1770539400-1770557400@newlifewest.nl
SUMMARY:Dienst in Opperdoes
DESCRIPTION:Geen viering in Amsterdam omdat we naar Opperdoes gaan \nWe vertrekken om 8:30
URL:https://newlifewest.nl/event/dienst-in-opperdoes/
END:VEVENT
BEGIN:VEVENT
DTSTART;TZID=Europe/Paris:20260201T110000
DTEND;TZID=Europe/Paris:20260201T123000
DTSTAMP:20260424T123332
CREATED:20260112T173854Z
LAST-MODIFIED:20260112T173854Z
UID:230-1769943600-1769949000@newlifewest.nl
SUMMARY:Viering
DESCRIPTION:
URL:https://newlifewest.nl/event/viering-3/
LOCATION:Buurtkeuken\, Lodewijk van Deysselstraat 33\, Amsterdam\, Netherlands
END:VEVENT
BEGIN:VEVENT
DTSTART;TZID=Europe/Paris:20260128T190000
DTEND;TZID=Europe/Paris:20260128T200000
DTSTAMP:20260424T123332
CREATED:20260112T181346Z
LAST-MODIFIED:20260112T181346Z
UID:242-1769626800-1769630400@newlifewest.nl
SUMMARY:Gebedsavond
DESCRIPTION:
URL:https://newlifewest.nl/event/gebedsavond-3/
END:VEVENT
BEGIN:VEVENT
DTSTART;TZID=Europe/Paris:20260125T110000
DTEND;TZID=Europe/Paris:20260125T123000
DTSTAMP:20260424T123332
CREATED:20260112T172722Z
LAST-MODIFIED:20260112T172722Z
UID:226-1769338800-1769344200@newlifewest.nl
SUMMARY:Viering
DESCRIPTION:
URL:https://newlifewest.nl/event/viering-2/
LOCATION:Buurtkeuken\, Lodewijk van Deysselstraat 33\, Amsterdam\, Netherlands
END:VEVENT
BEGIN:VEVENT
DTSTART;TZID=Europe/Paris:20260121T190000
DTEND;TZID=Europe/Paris:20260121T200000
DTSTAMP:20260424T123332
CREATED:20260112T172949Z
LAST-MODIFIED:20260112T172949Z
UID:228-1769022000-1769025600@newlifewest.nl
SUMMARY:Gebedsavond
DESCRIPTION:
URL:https://newlifewest.nl/event/gebedsavond-2/
END:VEVENT
BEGIN:VEVENT
DTSTART;TZID=Europe/Paris:20260118T110000
DTEND;TZID=Europe/Paris:20260118T123000
DTSTAMP:20260424T123332
CREATED:20260112T171811Z
LAST-MODIFIED:20260112T171811Z
UID:222-1768734000-1768739400@newlifewest.nl
SUMMARY:Viering
DESCRIPTION:
URL:https://newlifewest.nl/event/viering/
LOCATION:Buurtkeuken\, Lodewijk van Deysselstraat 33\, Amsterdam\, Netherlands
END:VEVENT
BEGIN:VEVENT
DTSTART;TZID=Europe/Paris:20260114T190000
DTEND;TZID=Europe/Paris:20260114T200000
DTSTAMP:20260424T123332
CREATED:20260112T172408Z
LAST-MODIFIED:20260112T172408Z
UID:224-1768417200-1768420800@newlifewest.nl
SUMMARY:Gebedsavond
DESCRIPTION:
URL:https://newlifewest.nl/event/gebedsavond/
END:VEVENT
BEGIN:VEVENT
DTSTART;TZID=Europe/Paris:20251228T110000
DTEND;TZID=Europe/Paris:20251228T123000
DTSTAMP:20260424T123332
CREATED:20251110T170319Z
LAST-MODIFIED:20251110T171637Z
UID:208-1766919600-1766925000@newlifewest.nl
SUMMARY:Viering
DESCRIPTION:Bezoek uit Opperdoes
URL:https://newlifewest.nl/event/dienst-7/
LOCATION:Buurtkeuken\, Lodewijk van Deysselstraat 33\, Amsterdam\, Netherlands
END:VEVENT
BEGIN:VEVENT
DTSTART;TZID=Europe/Paris:20251221T110000
DTEND;TZID=Europe/Paris:20251221T123000
DTSTAMP:20260424T123332
CREATED:20251110T170012Z
LAST-MODIFIED:20251110T170532Z
UID:206-1766314800-1766320200@newlifewest.nl
SUMMARY:Kerstviering
DESCRIPTION:
URL:https://newlifewest.nl/event/kerstviering/
LOCATION:Buurtkeuken\, Lodewijk van Deysselstraat 33\, Amsterdam\, Netherlands
END:VEVENT
BEGIN:VEVENT
DTSTART;TZID=Europe/Paris:20251220T160000
DTEND;TZID=Europe/Paris:20251220T190000
DTSTAMP:20260424T123332
CREATED:20251110T165840Z
LAST-MODIFIED:20251110T165840Z
UID:204-1766246400-1766257200@newlifewest.nl
SUMMARY:Kerstactie
DESCRIPTION:
URL:https://newlifewest.nl/event/kerstactie/
LOCATION:Buurtkeuken\, Lodewijk van Deysselstraat 33\, Amsterdam\, Netherlands
END:VEVENT
BEGIN:VEVENT
DTSTART;TZID=Europe/Paris:20251214T110000
DTEND;TZID=Europe/Paris:20251214T123000
DTSTAMP:20260424T123332
CREATED:20251110T165333Z
LAST-MODIFIED:20251110T171718Z
UID:202-1765710000-1765715400@newlifewest.nl
SUMMARY:Viering
DESCRIPTION:
URL:https://newlifewest.nl/event/dienst-6/
LOCATION:Buurtkeuken\, Lodewijk van Deysselstraat 33\, Amsterdam\, Netherlands
END:VEVENT
BEGIN:VEVENT
DTSTART;TZID=Europe/Paris:20251207T110000
DTEND;TZID=Europe/Paris:20251207T123000
DTSTAMP:20260424T123332
CREATED:20251110T165108Z
LAST-MODIFIED:20251110T171755Z
UID:200-1765105200-1765110600@newlifewest.nl
SUMMARY:Viering
DESCRIPTION:
URL:https://newlifewest.nl/event/dienst-5/
LOCATION:Buurtkeuken\, Lodewijk van Deysselstraat 33\, Amsterdam\, Netherlands
END:VEVENT
BEGIN:VEVENT
DTSTART;TZID=Europe/Paris:20251130T110000
DTEND;TZID=Europe/Paris:20251130T123000
DTSTAMP:20260424T123332
CREATED:20251027T203446Z
LAST-MODIFIED:20251110T171559Z
UID:197-1764500400-1764505800@newlifewest.nl
SUMMARY:Viering
DESCRIPTION:
URL:https://newlifewest.nl/event/dienst-4/
LOCATION:Buurtkeuken\, Lodewijk van Deysselstraat 33\, Amsterdam\, Netherlands
END:VEVENT
BEGIN:VEVENT
DTSTART;TZID=Europe/Paris:20251123T090000
DTEND;TZID=Europe/Paris:20251123T133000
DTSTAMP:20260424T123332
CREATED:20251027T203149Z
LAST-MODIFIED:20251027T203149Z
UID:193-1763888400-1763904600@newlifewest.nl
SUMMARY:Naar Opperdoes
DESCRIPTION:Deze zondag gaan we naar Opperdoes. We vertrekken om 9:00 bij de Buurtkeuken. \nLet op: er is geen dienst in de Buurtkeuken deze zondag.
URL:https://newlifewest.nl/event/naar-opperdoes/
LOCATION:Buurtkeuken\, Lodewijk van Deysselstraat 33\, Amsterdam\, Netherlands
END:VEVENT
BEGIN:VEVENT
DTSTART;TZID=Europe/Paris:20251116T110000
DTEND;TZID=Europe/Paris:20251116T123000
DTSTAMP:20260424T123332
CREATED:20251027T203337Z
LAST-MODIFIED:20251110T171507Z
UID:195-1763290800-1763296200@newlifewest.nl
SUMMARY:Viering
DESCRIPTION:
URL:https://newlifewest.nl/event/dienst-3/
LOCATION:Buurtkeuken\, Lodewijk van Deysselstraat 33\, Amsterdam\, Netherlands
END:VEVENT
BEGIN:VEVENT
DTSTART;TZID=Europe/Paris:20251115T100000
DTEND;TZID=Europe/Paris:20251115T150000
DTSTAMP:20260424T123332
CREATED:20251027T192151Z
LAST-MODIFIED:20251027T193210Z
UID:173-1763200800-1763218800@newlifewest.nl
SUMMARY:Bidden & Vasten
DESCRIPTION:We bidden deze dag voor visie en richting
URL:https://newlifewest.nl/event/bidden-vasten/
LOCATION:Buurtkeuken\, Lodewijk van Deysselstraat 33\, Amsterdam\, Netherlands
END:VEVENT
BEGIN:VEVENT
DTSTART;TZID=Europe/Paris:20251109T110000
DTEND;TZID=Europe/Paris:20251109T123000
DTSTAMP:20260424T123332
CREATED:20251027T202836Z
LAST-MODIFIED:20251110T171840Z
UID:191-1762686000-1762691400@newlifewest.nl
SUMMARY:Viering
DESCRIPTION:
URL:https://newlifewest.nl/event/dienst-2/
LOCATION:Buurtkeuken\, Lodewijk van Deysselstraat 33\, Amsterdam\, Netherlands
END:VEVENT
BEGIN:VEVENT
DTSTART;TZID=Europe/Paris:20251102T110000
DTEND;TZID=Europe/Paris:20251102T123000
DTSTAMP:20260424T123332
CREATED:20251027T202643Z
LAST-MODIFIED:20251110T171917Z
UID:189-1762081200-1762086600@newlifewest.nl
SUMMARY:Viering
DESCRIPTION:
URL:https://newlifewest.nl/event/dienst/
LOCATION:Buurtkeuken\, Lodewijk van Deysselstraat 33\, Amsterdam\, Netherlands
END:VEVENT
END:VCALENDAR